BEGIN:VCALENDAR
VERSION:2.0
PRODID:-//Liceo los Cóndores - ECPv5.6.0//NONSGML v1.0//EN
CALSCALE:GREGORIAN
METHOD:PUBLISH
X-WR-CALNAME:Liceo los Cóndores
X-ORIGINAL-URL:https://liceoloscondores.cl
X-WR-CALDESC:Eventos para Liceo los Cóndores
BEGIN:VTIMEZONE
TZID:America/Santiago
BEGIN:STANDARD
TZOFFSETFROM:-0300
TZOFFSETTO:-0400
TZNAME:-04
DTSTART:20200405T030000
END:STANDARD
BEGIN:DAYLIGHT
TZOFFSETFROM:-0400
TZOFFSETTO:-0300
TZNAME:-03
DTSTART:20200906T040000
END:DAYLIGHT
END:VTIMEZONE
BEGIN:VEVENT
DTSTART;TZID=America/Santiago:20200720T120000
DTEND;TZID=America/Santiago:20200720T123000
DTSTAMP:20260422T095257
CREATED:20200630T033419Z
LAST-MODIFIED:20200630T035113Z
UID:1779-1595246400-1595248200@liceoloscondores.cl
SUMMARY:PRUEBA 30
DESCRIPTION:Detalle 30
URL:https://liceoloscondores.cl/evento/prueba-30/
LOCATION:Liceo los Cóndores
CATEGORIES:4ºM C
END:VEVENT
END:VCALENDAR