BEGIN:VCALENDAR
VERSION:2.0
PRODID:-//Liceo los Cóndores - ECPv5.6.0//NONSGML v1.0//EN
CALSCALE:GREGORIAN
METHOD:PUBLISH
X-WR-CALNAME:Liceo los Cóndores
X-ORIGINAL-URL:https://liceoloscondores.cl
X-WR-CALDESC:Eventos para Liceo los Cóndores
BEGIN:VTIMEZONE
TZID:America/Santiago
BEGIN:STANDARD
TZOFFSETFROM:-0300
TZOFFSETTO:-0400
TZNAME:-04
DTSTART:20200405T030000
END:STANDARD
BEGIN:DAYLIGHT
TZOFFSETFROM:-0400
TZOFFSETTO:-0300
TZNAME:-03
DTSTART:20200906T040000
END:DAYLIGHT
END:VTIMEZONE
BEGIN:VEVENT
DTSTART;TZID=America/Santiago:20200714T120000
DTEND;TZID=America/Santiago:20200714T123000
DTSTAMP:20260422T100425
CREATED:20200630T033416Z
LAST-MODIFIED:20200630T035112Z
UID:1773-1594728000-1594729800@liceoloscondores.cl
SUMMARY:PRUEBA 24
DESCRIPTION:Detalle 24
URL:https://liceoloscondores.cl/evento/prueba-24/
LOCATION:Liceo los Cóndores
CATEGORIES:2ºM B
END:VEVENT
BEGIN:VEVENT
DTSTART;TZID=America/Santiago:20200715T120000
DTEND;TZID=America/Santiago:20200715T123000
DTSTAMP:20260422T100425
CREATED:20200630T033416Z
LAST-MODIFIED:20200630T035112Z
UID:1774-1594814400-1594816200@liceoloscondores.cl
SUMMARY:PRUEBA 25
DESCRIPTION:Detalle 25
URL:https://liceoloscondores.cl/evento/prueba-25/
LOCATION:Liceo los Cóndores
CATEGORIES:3ºM A
END:VEVENT
BEGIN:VEVENT
DTSTART;TZID=America/Santiago:20200716T120000
DTEND;TZID=America/Santiago:20200716T123000
DTSTAMP:20260422T100425
CREATED:20200630T033417Z
LAST-MODIFIED:20200630T035113Z
UID:1775-1594900800-1594902600@liceoloscondores.cl
SUMMARY:PRUEBA 26
DESCRIPTION:Detalle 26
URL:https://liceoloscondores.cl/evento/prueba-26/
LOCATION:Liceo los Cóndores
CATEGORIES:3ºM B
END:VEVENT
BEGIN:VEVENT
DTSTART;TZID=America/Santiago:20200717T120000
DTEND;TZID=America/Santiago:20200717T123000
DTSTAMP:20260422T100425
CREATED:20200630T033418Z
LAST-MODIFIED:20200630T035113Z
UID:1776-1594987200-1594989000@liceoloscondores.cl
SUMMARY:PRUEBA 27
DESCRIPTION:Detalle 27
URL:https://liceoloscondores.cl/evento/prueba-27/
LOCATION:Liceo los Cóndores
CATEGORIES:3ºM C
END:VEVENT
BEGIN:VEVENT
DTSTART;TZID=America/Santiago:20200718T120000
DTEND;TZID=America/Santiago:20200718T123000
DTSTAMP:20260422T100425
CREATED:20200630T033418Z
LAST-MODIFIED:20200630T035113Z
UID:1777-1595073600-1595075400@liceoloscondores.cl
SUMMARY:PRUEBA 28
DESCRIPTION:Detalle 28
URL:https://liceoloscondores.cl/evento/prueba-28/
LOCATION:Liceo los Cóndores
CATEGORIES:4ºM A
END:VEVENT
BEGIN:VEVENT
DTSTART;TZID=America/Santiago:20200719T120000
DTEND;TZID=America/Santiago:20200719T123000
DTSTAMP:20260422T100425
CREATED:20200630T033418Z
LAST-MODIFIED:20200630T035113Z
UID:1778-1595160000-1595161800@liceoloscondores.cl
SUMMARY:PRUEBA 29
DESCRIPTION:Detalle 29
URL:https://liceoloscondores.cl/evento/prueba-29/
LOCATION:Liceo los Cóndores
CATEGORIES:4ºM B
END:VEVENT
BEGIN:VEVENT
DTSTART;TZID=America/Santiago:20200720T120000
DTEND;TZID=America/Santiago:20200720T123000
DTSTAMP:20260422T100425
CREATED:20200630T033419Z
LAST-MODIFIED:20200630T035113Z
UID:1779-1595246400-1595248200@liceoloscondores.cl
SUMMARY:PRUEBA 30
DESCRIPTION:Detalle 30
URL:https://liceoloscondores.cl/evento/prueba-30/
LOCATION:Liceo los Cóndores
CATEGORIES:4ºM C
END:VEVENT
END:VCALENDAR