BEGIN:VCALENDAR
VERSION:2.0
PRODID:-//Liceo los Cóndores - ECPv5.6.0//NONSGML v1.0//EN
CALSCALE:GREGORIAN
METHOD:PUBLISH
X-WR-CALNAME:Liceo los Cóndores
X-ORIGINAL-URL:https://liceoloscondores.cl
X-WR-CALDESC:Eventos para Liceo los Cóndores
BEGIN:VTIMEZONE
TZID:America/Santiago
BEGIN:STANDARD
TZOFFSETFROM:-0300
TZOFFSETTO:-0400
TZNAME:-04
DTSTART:20200405T030000
END:STANDARD
BEGIN:DAYLIGHT
TZOFFSETFROM:-0400
TZOFFSETTO:-0300
TZNAME:-03
DTSTART:20200906T040000
END:DAYLIGHT
END:VTIMEZONE
BEGIN:VEVENT
DTSTART;TZID=America/Santiago:20200706T120000
DTEND;TZID=America/Santiago:20200706T123000
DTSTAMP:20260422T095257
CREATED:20200630T033412Z
LAST-MODIFIED:20200630T035111Z
UID:1765-1594036800-1594038600@liceoloscondores.cl
SUMMARY:PRUEBA 16
DESCRIPTION:Detalle 16
URL:https://liceoloscondores.cl/evento/prueba-16/
LOCATION:Liceo los Cóndores
CATEGORIES:6ºB
END:VEVENT
BEGIN:VEVENT
DTSTART;TZID=America/Santiago:20200707T120000
DTEND;TZID=America/Santiago:20200707T123000
DTSTAMP:20260422T095257
CREATED:20200630T033412Z
LAST-MODIFIED:20200630T035111Z
UID:1766-1594123200-1594125000@liceoloscondores.cl
SUMMARY:PRUEBA 17
DESCRIPTION:Detalle 17
URL:https://liceoloscondores.cl/evento/prueba-17/
LOCATION:Liceo los Cóndores
CATEGORIES:7ºA
END:VEVENT
BEGIN:VEVENT
DTSTART;TZID=America/Santiago:20200708T120000
DTEND;TZID=America/Santiago:20200708T123000
DTSTAMP:20260422T095257
CREATED:20200630T033413Z
LAST-MODIFIED:20200630T035111Z
UID:1767-1594209600-1594211400@liceoloscondores.cl
SUMMARY:PRUEBA 18
DESCRIPTION:Detalle 18
URL:https://liceoloscondores.cl/evento/prueba-18/
LOCATION:Liceo los Cóndores
CATEGORIES:7ºB
END:VEVENT
BEGIN:VEVENT
DTSTART;TZID=America/Santiago:20200709T120000
DTEND;TZID=America/Santiago:20200709T123000
DTSTAMP:20260422T095257
CREATED:20200630T033413Z
LAST-MODIFIED:20200630T035111Z
UID:1768-1594296000-1594297800@liceoloscondores.cl
SUMMARY:PRUEBA 19
DESCRIPTION:Detalle 19
URL:https://liceoloscondores.cl/evento/prueba-19/
LOCATION:Liceo los Cóndores
CATEGORIES:8ºA
END:VEVENT
BEGIN:VEVENT
DTSTART;TZID=America/Santiago:20200710T120000
DTEND;TZID=America/Santiago:20200710T123000
DTSTAMP:20260422T095257
CREATED:20200630T033414Z
LAST-MODIFIED:20200630T035111Z
UID:1769-1594382400-1594384200@liceoloscondores.cl
SUMMARY:PRUEBA 20
DESCRIPTION:Detalle 20
URL:https://liceoloscondores.cl/evento/prueba-20/
LOCATION:Liceo los Cóndores
CATEGORIES:8ºB
END:VEVENT
BEGIN:VEVENT
DTSTART;TZID=America/Santiago:20200711T120000
DTEND;TZID=America/Santiago:20200711T123000
DTSTAMP:20260422T095257
CREATED:20200630T033415Z
LAST-MODIFIED:20200630T035112Z
UID:1770-1594468800-1594470600@liceoloscondores.cl
SUMMARY:PRUEBA 21
DESCRIPTION:Detalle 21
URL:https://liceoloscondores.cl/evento/prueba-21/
LOCATION:Liceo los Cóndores
CATEGORIES:1ºM A
END:VEVENT
BEGIN:VEVENT
DTSTART;TZID=America/Santiago:20200712T120000
DTEND;TZID=America/Santiago:20200712T123000
DTSTAMP:20260422T095257
CREATED:20200630T033415Z
LAST-MODIFIED:20200630T035112Z
UID:1771-1594555200-1594557000@liceoloscondores.cl
SUMMARY:PRUEBA 22
DESCRIPTION:Detalle 22
URL:https://liceoloscondores.cl/evento/prueba-22/
LOCATION:Liceo los Cóndores
CATEGORIES:1ºM B
END:VEVENT
BEGIN:VEVENT
DTSTART;TZID=America/Santiago:20200713T120000
DTEND;TZID=America/Santiago:20200713T123000
DTSTAMP:20260422T095257
CREATED:20200630T033415Z
LAST-MODIFIED:20200630T035112Z
UID:1772-1594641600-1594643400@liceoloscondores.cl
SUMMARY:PRUEBA 23
DESCRIPTION:Detalle 23
URL:https://liceoloscondores.cl/evento/prueba-23/
LOCATION:Liceo los Cóndores
CATEGORIES:2ºM A
END:VEVENT
BEGIN:VEVENT
DTSTART;TZID=America/Santiago:20200714T120000
DTEND;TZID=America/Santiago:20200714T123000
DTSTAMP:20260422T095257
CREATED:20200630T033416Z
LAST-MODIFIED:20200630T035112Z
UID:1773-1594728000-1594729800@liceoloscondores.cl
SUMMARY:PRUEBA 24
DESCRIPTION:Detalle 24
URL:https://liceoloscondores.cl/evento/prueba-24/
LOCATION:Liceo los Cóndores
CATEGORIES:2ºM B
END:VEVENT
BEGIN:VEVENT
DTSTART;TZID=America/Santiago:20200715T120000
DTEND;TZID=America/Santiago:20200715T123000
DTSTAMP:20260422T095257
CREATED:20200630T033416Z
LAST-MODIFIED:20200630T035112Z
UID:1774-1594814400-1594816200@liceoloscondores.cl
SUMMARY:PRUEBA 25
DESCRIPTION:Detalle 25
URL:https://liceoloscondores.cl/evento/prueba-25/
LOCATION:Liceo los Cóndores
CATEGORIES:3ºM A
END:VEVENT
BEGIN:VEVENT
DTSTART;TZID=America/Santiago:20200716T120000
DTEND;TZID=America/Santiago:20200716T123000
DTSTAMP:20260422T095257
CREATED:20200630T033417Z
LAST-MODIFIED:20200630T035113Z
UID:1775-1594900800-1594902600@liceoloscondores.cl
SUMMARY:PRUEBA 26
DESCRIPTION:Detalle 26
URL:https://liceoloscondores.cl/evento/prueba-26/
LOCATION:Liceo los Cóndores
CATEGORIES:3ºM B
END:VEVENT
BEGIN:VEVENT
DTSTART;TZID=America/Santiago:20200717T120000
DTEND;TZID=America/Santiago:20200717T123000
DTSTAMP:20260422T095257
CREATED:20200630T033418Z
LAST-MODIFIED:20200630T035113Z
UID:1776-1594987200-1594989000@liceoloscondores.cl
SUMMARY:PRUEBA 27
DESCRIPTION:Detalle 27
URL:https://liceoloscondores.cl/evento/prueba-27/
LOCATION:Liceo los Cóndores
CATEGORIES:3ºM C
END:VEVENT
BEGIN:VEVENT
DTSTART;TZID=America/Santiago:20200718T120000
DTEND;TZID=America/Santiago:20200718T123000
DTSTAMP:20260422T095257
CREATED:20200630T033418Z
LAST-MODIFIED:20200630T035113Z
UID:1777-1595073600-1595075400@liceoloscondores.cl
SUMMARY:PRUEBA 28
DESCRIPTION:Detalle 28
URL:https://liceoloscondores.cl/evento/prueba-28/
LOCATION:Liceo los Cóndores
CATEGORIES:4ºM A
END:VEVENT
BEGIN:VEVENT
DTSTART;TZID=America/Santiago:20200719T120000
DTEND;TZID=America/Santiago:20200719T123000
DTSTAMP:20260422T095257
CREATED:20200630T033418Z
LAST-MODIFIED:20200630T035113Z
UID:1778-1595160000-1595161800@liceoloscondores.cl
SUMMARY:PRUEBA 29
DESCRIPTION:Detalle 29
URL:https://liceoloscondores.cl/evento/prueba-29/
LOCATION:Liceo los Cóndores
CATEGORIES:4ºM B
END:VEVENT
BEGIN:VEVENT
DTSTART;TZID=America/Santiago:20200720T120000
DTEND;TZID=America/Santiago:20200720T123000
DTSTAMP:20260422T095257
CREATED:20200630T033419Z
LAST-MODIFIED:20200630T035113Z
UID:1779-1595246400-1595248200@liceoloscondores.cl
SUMMARY:PRUEBA 30
DESCRIPTION:Detalle 30
URL:https://liceoloscondores.cl/evento/prueba-30/
LOCATION:Liceo los Cóndores
CATEGORIES:4ºM C
END:VEVENT
END:VCALENDAR