BEGIN:VCALENDAR
VERSION:2.0
PRODID:-//Liceo los Cóndores - ECPv5.6.0//NONSGML v1.0//EN
CALSCALE:GREGORIAN
METHOD:PUBLISH
X-WR-CALNAME:Liceo los Cóndores
X-ORIGINAL-URL:https://liceoloscondores.cl
X-WR-CALDESC:Eventos para Liceo los Cóndores
BEGIN:VTIMEZONE
TZID:America/Santiago
BEGIN:STANDARD
TZOFFSETFROM:-0300
TZOFFSETTO:-0400
TZNAME:-04
DTSTART:20200405T030000
END:STANDARD
BEGIN:DAYLIGHT
TZOFFSETFROM:-0400
TZOFFSETTO:-0300
TZNAME:-03
DTSTART:20200906T040000
END:DAYLIGHT
END:VTIMEZONE
BEGIN:VEVENT
DTSTART;TZID=America/Santiago:20200703T120000
DTEND;TZID=America/Santiago:20200703T123000
DTSTAMP:20260423T032654
CREATED:20200630T033410Z
LAST-MODIFIED:20200630T035110Z
UID:1762-1593777600-1593779400@liceoloscondores.cl
SUMMARY:PRUEBA 13
DESCRIPTION:Detalle 13
URL:https://liceoloscondores.cl/evento/prueba-13/
LOCATION:Liceo los Cóndores
CATEGORIES:5ºA
END:VEVENT
END:VCALENDAR